Workbook

Sheet Llistat
A1: Instruccions
A2: 1. Desplaça't per la llista de competències més avall | B2: Nº | C2: COMPETÈNCIES SELECCIONADES
B3: 1 | C3: =VLOOKUP(B3,$B$14:$C$162,2) -> Assertivitat
A4: 2. Selecciona un màxim de 10 competències | B4: 61 | C4: =VLOOKUP(B4,$B$73:$C$162,2) -> Adaptabilitat
B5: 3 | C5: =VLOOKUP(B5,$B$14:$C$162,2) -> Rendició de comptes
A6: 3. Escriu el número de cada competència a la casella groga | B6: 4 | C6: =VLOOKUP(B6,$B$14:$C$162,2) -> Gestió de conflictes
B7: 67 | C7: =VLOOKUP(B7,$B$14:$C$162,2) -> Integritat
A8: 4. A la següent pestanya, registra el progrés a la taula | B8: 6 | C8: =VLOOKUP(B8,$B$14:$C$162,2) -> Cooperació
B9: 7 | C9: =VLOOKUP(B9,$B$14:$C$162,2) -> Diplomàcia
B10: 75 | C10: =VLOOKUP(B10,$B$14:$C$162,2) -> Organització
B11: 9 | C11: =VLOOKUP(B11,$B$14:$C$162,2) -> Empatia
B12: 10 | C12: =VLOOKUP(B12,$B$14:$C$162,2) -> Influència sobre els altres
A13: CATEGORIA | B13: Nº | C13: Competència
A14: Habilitats d'intel·ligència social | B14: 1 | C14: Assertivitat
A15: Habilitats d'intel·ligència social | B15: 2 | C15: Capacitat per liderar i inspirar
A16: Habilitats d'intel·ligència social | B16: 3 | C16: Rendició de comptes
A17: Habilitats d'intel·ligència social | B17: 4 | C17: Gestió de conflictes
A18: Habilitats d'intel·ligència social | B18: 5 | C18: Resolució de conflictes
A19: Habilitats d'intel·ligència social | B19: 6 | C19: Cooperació
A20: Habilitats d'intel·ligència social | B20: 7 | C20: Diplomàcia
A21: Habilitats d'intel·ligència social | B21: 8 | C21: Intel·ligència emocional
A22: Habilitats d'intel·ligència social | B22: 9 | C22: Empatia
A23: Habilitats d'intel·ligència social | B23: 10 | C23: Influència sobre els altres
A24: Habilitats d'intel·ligència social | B24: 11 | C24: Inspirar els altres
A25: Habilitats d'intel·ligència social | B25: 12 | C25: Integritat
... A162: Habilitats d’ètica i diversitat | B162: 149 | C162: Treballar amb diversitat

Sheet Progrés
B3: COMPETÈNCIES SELECCIONADES | C3: Checkpoint 1 | D3: Checkpoint 2 | E3: Checkpoint 3 | F3: Checkpoint 4
A4: =Llistat!B3 -> 1 | B4: =Llistat!C3 -> Assertivitat | C4: 2 | D4: 4 | E4: 4 | F4: 6
A5: =Llistat!B4 -> 61 | B5: =Llistat!C4 -> Adaptabilitat
A6: =Llistat!B5 -> 3 | B6: =Llistat!C5 -> Rendició de comptes
A7: =Llistat!B6 -> 4 | B7: =Llistat!C6 -> Gestió de conflictes
A8: =Llistat!B7 -> 67 | B8: =Llistat!C7 -> Integritat
A9: =Llistat!B8 -> 6 | B9: =Llistat!C8 -> Cooperació
A10: =Llistat!B9 -> 7 | B10: =Llistat!C9 -> Diplomàcia
A11: =Llistat!B10 -> 75 | B11: =Llistat!C10 -> Organització
A12: =Llistat!B11 -> 9 | B12: =Llistat!C11 -> Empatia
A13: =Llistat!B12 -> 10 | B13: =Llistat!C12 -> Influència sobre els altres
