Workbook

Sheet List
B2: Instructions
B3: 1. Scroll through the Competency list below | C3: Nº | D3: SELECTED COMPETENCIES
C4: . | D4: =VLOOKUP(C4,$C$15:$D$164,2) -> -
B5: 2. Select a maximum of 10 competencies | C5: . | D5: =VLOOKUP(C5,$C$15:$D$164,2) -> -
C6: . | D6: =VLOOKUP(C6,$C$15:$D$164,2) -> -
B7: 3. Write each Competency Nº in the yellow box | C7: . | D7: =VLOOKUP(C7,$C$15:$D$164,2) -> -
C8: . | D8: =VLOOKUP(C8,$C$15:$D$164,2) -> -
B9: 4. In the next sheet, record progress over time | C9: . | D9: =VLOOKUP(C9,$C$15:$D$164,2) -> -
C10: . | D10: =VLOOKUP(C10,$C$15:$D$164,2) -> -
C11: . | D11: =VLOOKUP(C11,$C$15:$D$164,2) -> -
C12: . | D12: =VLOOKUP(C12,$C$15:$D$164,2) -> -
C13: . | D13: =VLOOKUP(C13,$C$15:$D$164,2) -> -
B14: CATEGORY | C14: Nº | D14: Competency
B15: Social intelligence skills | C15: 1 | D15: Assertiveness
B16: Social intelligence skills | C16: 2 | D16: Able to lead and inspire
B17: Social intelligence skills | C17: 3 | D17: Accountability
B18: Social intelligence skills | C18: 4 | D18: Conflict-management
B19: Social intelligence skills | C19: 5 | D19: Conflict resolution
B20: Social intelligence skills | C20: 6 | D20: Cooperation
B21: Social intelligence skills | C21: 7 | D21: Diplomacy
B22: Social intelligence skills | C22: 8 | D22: Emotional intelligence
B23: Social intelligence skills | C23: 9 | D23: Empathy
B24: Social intelligence skills | C24: 10 | D24: Influencing others
B25: Social intelligence skills | C25: 11 | D25: Inspiring others
B26: Social intelligence skills | C26: 12 | D26: Integrity
... B163: Ethics and diversity skills | C163: 149 | D163: Work with diversity
C164: . | D164: -

Sheet Progress
C2: SELECTED COMPETENCIES | D2: Checkpoint 1 | E2: Checkpoint 2 | F2: Checkpoint 3 | G2: Checkpoint 4
B3: =List!C4 -> . | C3: =List!D4 -> -
B4: =List!C5 -> . | C4: =List!D5 -> -
B5: =List!C6 -> . | C5: =List!D6 -> -
B6: =List!C7 -> . | C6: =List!D7 -> -
B7: =List!C8 -> . | C7: =List!D8 -> -
B8: =List!C9 -> . | C8: =List!D9 -> -
B9: =List!C10 -> . | C9: =List!D10 -> -
B10: =List!C11 -> . | C10: =List!D11 -> -
B11: =List!C12 -> . | C11: =List!D12 -> -
B12: =List!C13 -> . | C12: =List!D13 -> -
